BEGIN:VCALENDAR
VERSION:2.0
PRODID:-//Verdadeiro Olhar - ECPv5.8.0//NONSGML v1.0//EN
CALSCALE:GREGORIAN
METHOD:PUBLISH
X-WR-CALNAME:Verdadeiro Olhar
X-ORIGINAL-URL:https://www.verdadeiroolhar.pt
X-WR-CALDESC:Events for Verdadeiro Olhar
BEGIN:VTIMEZONE
TZID:UTC
BEGIN:STANDARD
TZOFFSETFROM:+0000
TZOFFSETTO:+0000
TZNAME:UTC
DTSTART:20160101T000000
END:STANDARD
END:VTIMEZONE
BEGIN:VEVENT
DTSTART;VALUE=DATE:20161001
DTEND;VALUE=DATE:20161003
DTSTAMP:20260425T032819
CREATED:20160921T151710Z
LAST-MODIFIED:20160921T151710Z
UID:13464-1475280000-1475452799@www.verdadeiroolhar.pt
SUMMARY:3.ª Feira da Saúde de Lordelo
DESCRIPTION:Lordelo recebe a 3.ª Feira da Saúde a 1 e 2 de Outubro. No primeiro dia vai ser assinalado o Dia Internacional do Idoso\, enquanto no dia 2 decorrerá uma Caminhada Solidária a reverter para a Liga Portuguesa contra o Cancro. Haverá rastreios gratuitos. \nPrograma:\nSábado\, 1 de Outubro – Comemoração do Dia Internacional do Idoso\n9:00 – Abertura\n14:30 – Ciclo de Conferências subordinadas ao tema “Saúde e bem estar na 3ª idade”\n17:30 – Aula de ginástica sénior\nAnimação / Demonstrações Seniores durante todo o dia\n \nDomingo\, 2 de Outubro\n9:00 – Abertura\n10:00 – Caminhada Solidária – 3€ reverte na totalidade a favor\nda Liga Portuguesa contra o Cancro
URL:https://www.verdadeiroolhar.pt/evento/3-feira-da-saude-lordelo/
LOCATION:Lordelo
CATEGORIES:Eventos Públicos
ATTACH;FMTTYPE=image/jpeg:https://www.verdadeiroolhar.pt/wp-content/uploads/2016/09/14212787_737167476421059_5857489608377306268_n.jpg
END:VEVENT
END:VCALENDAR