BEGIN:VCALENDAR
VERSION:2.0
PRODID:-//Verdadeiro Olhar - ECPv5.8.0//NONSGML v1.0//EN
CALSCALE:GREGORIAN
METHOD:PUBLISH
X-WR-CALNAME:Verdadeiro Olhar
X-ORIGINAL-URL:https://www.verdadeiroolhar.pt
X-WR-CALDESC:Events for Verdadeiro Olhar
BEGIN:VTIMEZONE
TZID:UTC
BEGIN:STANDARD
TZOFFSETFROM:+0000
TZOFFSETTO:+0000
TZNAME:UTC
DTSTART:20160101T000000
END:STANDARD
END:VTIMEZONE
BEGIN:VEVENT
DTSTART;TZID=UTC:20160710T103000
DTEND;TZID=UTC:20160710T123000
DTSTAMP:20260422T211941
CREATED:20160705T162321Z
LAST-MODIFIED:20160705T162321Z
UID:11076-1468146600-1468153800@www.verdadeiroolhar.pt
SUMMARY:2.º Grande Prémio José Magalhães
DESCRIPTION:Valongo acolhe o 2.º Grande Prémio José Magalhães\, com uma corrida de 10quilómetros e uma caminhada de 5 quilómetros\, no domingo\, dia 10\, às 10h30\, pela cidade de Alfena.
URL:https://www.verdadeiroolhar.pt/evento/2-grande-premio-jose-magalhaes/
LOCATION:Cidade de Alfena\, Valongo\, Portugal
CATEGORIES:Eventos Públicos
ATTACH;FMTTYPE=image/jpeg:https://www.verdadeiroolhar.pt/wp-content/uploads/2016/07/josemagalhaes-e1467735777684.jpg
END:VEVENT
END:VCALENDAR