BEGIN:VCALENDAR
VERSION:2.0
PRODID:-//Verdadeiro Olhar - ECPv5.8.0//NONSGML v1.0//EN
CALSCALE:GREGORIAN
METHOD:PUBLISH
X-WR-CALNAME:Verdadeiro Olhar
X-ORIGINAL-URL:https://www.verdadeiroolhar.pt
X-WR-CALDESC:Events for Verdadeiro Olhar
BEGIN:VTIMEZONE
TZID:UTC
BEGIN:STANDARD
TZOFFSETFROM:+0000
TZOFFSETTO:+0000
TZNAME:UTC
DTSTART:20180101T000000
END:STANDARD
END:VTIMEZONE
BEGIN:VEVENT
DTSTART;TZID=UTC:20180505T070000
DTEND;TZID=UTC:20180505T190000
DTSTAMP:20260424T164317
CREATED:20180116T120705Z
LAST-MODIFIED:20180116T120705Z
UID:33681-1525503600-1525546800@www.verdadeiroolhar.pt
SUMMARY:1.º Passeio TT Bombeiros Voluntários de Lordelo
DESCRIPTION:No dia 5 de Maio\, decorre o 1.º Passeio TT Bombeiros Voluntários de Lordelo. Trata-se de um evento de angariação de fundos a reverter para os Bombeiros Voluntários de Lordelo. \nPodem inscrever-se jipes\, motos e quads. O custo de inscrição é de 25 euros. \nA iniciativa começa às 7h00\, inclui reforço e almoço e\, à tarde\, à zona espectáculo. \nAs inscrições devem ser realizadas junto da associação humanitária.
URL:https://www.verdadeiroolhar.pt/evento/1-passeio-tt-bombeiros-voluntarios-lordelo/
LOCATION:Lordelo\, Lordelo\, Paredes
CATEGORIES:Eventos Públicos
ATTACH;FMTTYPE=image/jpeg:https://www.verdadeiroolhar.pt/wp-content/uploads/2018/01/Bombeiros-Lordelo.jpg
END:VEVENT
END:VCALENDAR