BEGIN:VCALENDAR
VERSION:2.0
PRODID:-//Verdadeiro Olhar - ECPv5.8.0//NONSGML v1.0//EN
CALSCALE:GREGORIAN
METHOD:PUBLISH
X-WR-CALNAME:Verdadeiro Olhar
X-ORIGINAL-URL:https://www.verdadeiroolhar.pt
X-WR-CALDESC:Events for Verdadeiro Olhar
BEGIN:VTIMEZONE
TZID:UTC
BEGIN:STANDARD
TZOFFSETFROM:+0000
TZOFFSETTO:+0000
TZNAME:UTC
DTSTART:20180101T000000
END:STANDARD
END:VTIMEZONE
BEGIN:VEVENT
DTSTART;TZID=UTC:20180428T140000
DTEND;TZID=UTC:20180428T190000
DTSTAMP:20260424T111713
CREATED:20180405T102643Z
LAST-MODIFIED:20180405T102643Z
UID:38288-1524924000-1524942000@www.verdadeiroolhar.pt
SUMMARY:1.º Passeio de Cicloturismo dos Bombeiros Voluntários de Rebordosa
DESCRIPTION:“Gostas de andar de bicicleta e de apreciar belas paisagens? Se sim\, então junta-te a nós no 1.º Passeio de Cicloturismo\, no dia 28 de Abril. Trás os teus companheiros e vamos desfrutar um passeio diferente!”. O convite é da Associação Humanitária dos Bombeiros Voluntários de Rebordosa que organiza\, a 28 de Abril\, a partir das 15h00\, um passeio de cicloturismo que vai ter início no quartel da corporação e tem um percurso de 50 quilómetros. \nA inscrição custa oito euros e dá acesso a seguro\, reforço\, lanche\, brindes e banho.
URL:https://www.verdadeiroolhar.pt/evento/1-passeio-cicloturismo-dos-bombeiros-voluntarios-rebordosa/
LOCATION:Rebordosa\, Paredes
CATEGORIES:Desporto
ATTACH;FMTTYPE=image/jpeg:https://www.verdadeiroolhar.pt/wp-content/uploads/2018/04/Cicloturismo.jpg
END:VEVENT
END:VCALENDAR