BEGIN:VCALENDAR
VERSION:2.0
PRODID:-//Verdadeiro Olhar - ECPv5.8.0//NONSGML v1.0//EN
CALSCALE:GREGORIAN
METHOD:PUBLISH
X-WR-CALNAME:Verdadeiro Olhar
X-ORIGINAL-URL:https://www.verdadeiroolhar.pt
X-WR-CALDESC:Events for Verdadeiro Olhar
BEGIN:VTIMEZONE
TZID:UTC
BEGIN:STANDARD
TZOFFSETFROM:+0000
TZOFFSETTO:+0000
TZNAME:UTC
DTSTART:20160101T000000
END:STANDARD
END:VTIMEZONE
BEGIN:VEVENT
DTSTART;VALUE=DATE:20160924
DTEND;VALUE=DATE:20161106
DTSTAMP:20260424T223219
CREATED:20160906T171556Z
LAST-MODIFIED:20160906T171556Z
UID:12938-1474675200-1478390399@www.verdadeiroolhar.pt
SUMMARY:1.º Festival de Teatro Sentir Penafiel
DESCRIPTION:De 24 de Setembro a 5 de Novembro vai decorrer o 1.º Festival de Teatro Sentir Penafiel\, em vários espaços do concelho. \nConheça o programa. \nSETEMBRO\n\n24 (sábado) – 22h00 – Salão Paroquial\, Paço de Sousa\nTeatro Revista – “Mãos à obra Porto” – Grupo Dramático e Beneficente de Rio Tinto\, Gondomar\nOUTUBRO \n1 (sábado) – 21h – Salão Paroquial\, Castelões\nComédia – “Velhos\, Velhinhos e Velhotes” – Grupo de Teatro Linha 5\, Caíde\, Lousada\n2 (domingo) – 15h – Salão Junta de Freguesia\, Vila Cova\nComédia – “Uma bomba chamada Etelvina” – Teatro Experimental Magnetense\, Meinedo\, Lousada\n15 (sábado) – 21h – Museu Municipal – Penafiel\nComédia – “A última cartada” – Grupo de Teatro Bando dos Pardais\, Canelas\, Penafiel\n22 (sábado) – 21h – Salão Paroquial – Rio de Moinhos\nComédia – “O pedido de casamento/O Urso”– comoDEantes\, Lagares\, Penafiel\n23 (domingo) – 15h – Salão Junta de Freguesia – Novelas\nTeatro Revista – “Ide dar lavagem à porca …” – Grupo Teatro Novelas\, Penafiel\n29 (sábado) – 21h – Centro Recreativo e Cultural – Sebolido\nComédia – “A grande máquina” – Grupo Paroquial de Teatro de S. Pedro da Cova\, Gondomar\n30 (domingo) – 15h – CasaXiné – Lagares\nMelo-Drama – “Húmus” – Círculo Arte e Recreio Teatro Ensaio Raúl Brandão\, Guimarães\nNOVEMBRO\n\n5 (sábado) – 21h – CCC\, Centro de Convívio e Cultura – Penafiel\nComédia – “Falando de Cartos” – Grupo de Teatro Atlântida de Matamá\, Pontevedra\, Vigo – Espanha\nHOMENAGEM Júlio Cardoso (ator e encenador)
URL:https://www.verdadeiroolhar.pt/evento/1-festival-teatro-sentir-penafiel/
CATEGORIES:Cultura
ATTACH;FMTTYPE=image/jpeg:https://www.verdadeiroolhar.pt/wp-content/uploads/2016/09/FestivalTeatroSentirPNF_180.jpg
END:VEVENT
END:VCALENDAR